BEGIN:VCALENDAR
VERSION:2.0
PRODID:-//Rebecca Mary - ECPv6.15.20//NONSGML v1.0//EN
CALSCALE:GREGORIAN
METHOD:PUBLISH
X-WR-CALNAME:Rebecca Mary
X-ORIGINAL-URL:https://rebecca-mary.com
X-WR-CALDESC:Events for Rebecca Mary
REFRESH-INTERVAL;VALUE=DURATION:PT1H
X-Robots-Tag:noindex
X-PUBLISHED-TTL:PT1H
BEGIN:VTIMEZONE
TZID:Europe/Berlin
BEGIN:DAYLIGHT
TZOFFSETFROM:+0100
TZOFFSETTO:+0200
TZNAME:CEST
DTSTART:20250330T010000
END:DAYLIGHT
BEGIN:STANDARD
TZOFFSETFROM:+0200
TZOFFSETTO:+0100
TZNAME:CET
DTSTART:20251026T010000
END:STANDARD
BEGIN:DAYLIGHT
TZOFFSETFROM:+0100
TZOFFSETTO:+0200
TZNAME:CEST
DTSTART:20260329T010000
END:DAYLIGHT
BEGIN:STANDARD
TZOFFSETFROM:+0200
TZOFFSETTO:+0100
TZNAME:CET
DTSTART:20261025T010000
END:STANDARD
BEGIN:DAYLIGHT
TZOFFSETFROM:+0100
TZOFFSETTO:+0200
TZNAME:CEST
DTSTART:20270328T010000
END:DAYLIGHT
BEGIN:STANDARD
TZOFFSETFROM:+0200
TZOFFSETTO:+0100
TZNAME:CET
DTSTART:20271031T010000
END:STANDARD
END:VTIMEZONE
BEGIN:VEVENT
DTSTART;VALUE=DATE:20260425
DTEND;VALUE=DATE:20260426
DTSTAMP:20260425T021522
CREATED:20251121T081205Z
LAST-MODIFIED:20251121T081205Z
UID:4515-1777075200-1777161599@rebecca-mary.com
SUMMARY:Performance - Vom Schrei zur Bewegung
DESCRIPTION:In “Vom Schrei zur Bewegung” (From Scream to Movement)\, Chilean choreographer Andrea Lagos Neumann\, together with Felipe González Berríos\, Florencia Lagos Neumann\, Lola Villegas Fragoso and Rebecca Mary Narum\, poses a fundamental question: How can we hear the voices of the FLINTA* community (women\, lesbians\, intersex\, non-binary\, trans and agender people)\, who have often been silenced throughout history? \nUsing dance\, music\, video and embroidery\, a powerful archive of memories and resistance is created that keeps testimonies of survivors of the Latin American dictatorships (1970-1990) alive. At a time when democracy is under threat worldwide\, the question arises: How can we prevent these stories from falling silent again? \nFrom Cry to Movement offers more than a performance – it is an invitation to actively engage with the past and question what responsibility we have today for justice and remembrance. An appeal that is now more urgent than ever. \nTickets coming soon! \nWith:\n\nArtistic direction: Andrea Lagos Neumann\nCo-producer: Felipe González Berríos\nConcept: Florencia Lagos Neumann\, Felipe González Berríos and Andrea Lagos Neumann\nDance: Felipe González Berríos\, Rebecca Mary Narum and Lola Villegas Fragoso\nMusic: Francisco C. Goldschmidt\nVideo: Konrad Bohley\nCostume: Bianka Heck\nProduction management: Linda Pilar Brodhag/alado.productions\nTechnology: Team E-WERK Freiburg \n\nSupported by the Freiburg Cultural Office\, the Baden-Württemberg State Association of Independent Dance and Theater Artists with funds from the Ministry of Science\, Research and the Arts and the Baden-Württemberg State Bank Foundation. \nIn cooperation with E-WERK Freiburg eV\, Tertulia Freiburg eV\, Nuestra América eV\, Archiv Soziale Bewegung eV\, Feministische Geschichtswerkstatt Freiburg eV\, Feministisches Zentrum Freiburg eV
URL:https://rebecca-mary.com/event/performance-vom-schrei-zur-bewegung-5/
LOCATION:E-Werk Freiburg\, Eschholzstr. 77\, Freiburg im Breisgau\, 79106\, Germany
ATTACH;FMTTYPE=image/png:https://rebecca-mary.com/wp-content/uploads/2025/02/Screenshot-2025-02-17-at-15.54.11.png
END:VEVENT
END:VCALENDAR